BEGIN:VCALENDAR
PRODID:-//eluceo/ical//2.0/EN
VERSION:2.0
CALSCALE:GREGORIAN
BEGIN:VEVENT
UID:635d4d015cbfc1e8ff727d8d7a61c81a
DTSTAMP:20260420T204931Z
SUMMARY:DEFI des Courreaux
DESCRIPTION:
URL:https://lorient-porte-des-indes.rotary-bretagne-mayenne.org/en/agenda/s
 how/36099
DTSTART;TZID=Europe/Zurich:20230610T060000
DTEND;TZID=Europe/Zurich:20230610T180000
LOCATION:Plage du Perello Ploemeur
CATEGORIES:Rotary
END:VEVENT
BEGIN:VTIMEZONE
TZID:Europe/Zurich
BEGIN:DAYLIGHT
DTSTART:20230610T060000
TZNAME:CEST
TZOFFSETTO:+0200
TZOFFSETFROM:+0200
END:DAYLIGHT
END:VTIMEZONE
END:VCALENDAR
